BEGIN:VCALENDAR
VERSION:2.0
BEGIN:VEVENT
UID:9df4735e3f0e8471f3aa7ffbb155e777d8cf7316@fbboostyourbusiness.ie
URL:http://fbboostyourbusiness.ie
DTSTART:20171201T080000Z
DTEND:20171201T123000Z
ORGANIZER;CN="Facebook":mailto:boostyourbusiness@splash.events
SUMMARY:Boost Your Business
DESCRIPTION:For more information - http://fbboostyourbusiness.ie
LOCATION:1st Floor The Point Village Dublin
END:VEVENT
END:VCALENDAR
